BEGIN:VCALENDAR
VERSION:2.0
PRODID:-//Les échos de Couspeau - ECPv6.15.11//NONSGML v1.0//EN
CALSCALE:GREGORIAN
METHOD:PUBLISH
X-WR-CALNAME:Les échos de Couspeau
X-ORIGINAL-URL:https://www.les-echos-de-couspeau.fr
X-WR-CALDESC:Évènements pour Les échos de Couspeau
REFRESH-INTERVAL;VALUE=DURATION:PT1H
X-Robots-Tag:noindex
X-PUBLISHED-TTL:PT1H
BEGIN:VTIMEZONE
TZID:Europe/Paris
BEGIN:DAYLIGHT
TZOFFSETFROM:+0100
TZOFFSETTO:+0200
TZNAME:CEST
DTSTART:20250330T010000
END:DAYLIGHT
BEGIN:STANDARD
TZOFFSETFROM:+0200
TZOFFSETTO:+0100
TZNAME:CET
DTSTART:20251026T010000
END:STANDARD
BEGIN:DAYLIGHT
TZOFFSETFROM:+0100
TZOFFSETTO:+0200
TZNAME:CEST
DTSTART:20260329T010000
END:DAYLIGHT
BEGIN:STANDARD
TZOFFSETFROM:+0200
TZOFFSETTO:+0100
TZNAME:CET
DTSTART:20261025T010000
END:STANDARD
BEGIN:DAYLIGHT
TZOFFSETFROM:+0100
TZOFFSETTO:+0200
TZNAME:CEST
DTSTART:20270328T010000
END:DAYLIGHT
BEGIN:STANDARD
TZOFFSETFROM:+0200
TZOFFSETTO:+0100
TZNAME:CET
DTSTART:20271031T010000
END:STANDARD
END:VTIMEZONE
BEGIN:VEVENT
DTSTART;TZID=Europe/Paris:20260422T140000
DTEND;TZID=Europe/Paris:20260422T160000
DTSTAMP:20260422T012651
CREATED:20260403T065009Z
LAST-MODIFIED:20260403T070300Z
UID:98835-1776866400-1776873600@www.les-echos-de-couspeau.fr
SUMMARY:22/04 Sortie famille "Bidouille et botanique"- Pont de Barret
DESCRIPTION:“ \nDécouverte des plantes\, aquarelles\, encres végétales et autres bricolages ! “ \nDetail de la sortie \nVenez partager un moment convivial en famille à la découverte du végétal sur les sentiers de Pont de barret. A chaque séance : des temps de jeux\, de balade-cueillette et d’ateliers bidouilles à partir des plantes. \nDate et horaire \n2 mercredis par mois : \n\n22 Avril : Fabrication de jeux nature\n29 Avril : Cuisine sauvage\n20 Mai : Impressions végétales\n27 Mai : Aquarelle botanique\n17 Juin : Encres végétales\n24 juin : Cartes postales en cyanotype\n\nDe 14h00 à 16h00. \nLocalisation \nPont-de-Barret \nTarif \nSelon vos moyens. 20\, 25\, ou 30€* duo parent-enfant.\n5€ par personne supplémentaire \n+ 5€ d’adhésion à l’association Nature au coeur (natureaucoeur-drome.fr) \nRéservation \nFlora (06 35 37 82 51) ou Suzy (06 77 99 03 55)
URL:https://www.les-echos-de-couspeau.fr/event/22-04-sortie-famille-bidouille-et-botanique-pont-de-barret/
ATTACH;FMTTYPE=image/png:https://www.les-echos-de-couspeau.fr/wp-content/uploads/2022/10/nature-au-coeur-5f900a8470a4a_medium.png
END:VEVENT
BEGIN:VEVENT
DTSTART;TZID=Europe/Paris:20260422T143000
DTEND;TZID=Europe/Paris:20260422T173000
DTSTAMP:20260422T012651
CREATED:20260401T135527Z
LAST-MODIFIED:20260401T140320Z
UID:98805-1776868200-1776879000@www.les-echos-de-couspeau.fr
SUMMARY:22/04- Permanences tours de jeux - Dieulefit
DESCRIPTION:Permanences du mercredi\nTous les Mercredi (hors vacances)\, de 14h30 à 17h30\nGymnase de Dieulefit\nJeux et jouets pour toutes et tous. N’hésitez pas à venir en profiter ! \n 
URL:https://www.les-echos-de-couspeau.fr/event/22-04-permanences-tours-de-jeux-dieulefit/
ATTACH;FMTTYPE=image/png:https://www.les-echos-de-couspeau.fr/wp-content/uploads/2021/06/Capture-décran-2021-06-07-à-22.32.48.png
END:VEVENT
BEGIN:VEVENT
DTSTART;TZID=Europe/Paris:20260422T170000
DTEND;TZID=Europe/Paris:20260427T183000
DTSTAMP:20260422T012651
CREATED:20260417T091623Z
LAST-MODIFIED:20260419T120610Z
UID:99209-1776877200-1777314600@www.les-echos-de-couspeau.fr
SUMMARY:22/04 - Parents parlons nupérique - Bourdeaux
DESCRIPTION:PARENTS\, PARLONS NUMÉRIQUE ! \nPour échanger entre parents des pratiques de nos enfants et de nos ados. \nLe 22 avril \nde 17h à 18h30 \nA l’accueil de loisirs  de Bourdeaux \nSoirées animées par \nJean-Claude BONDAZ\, médiateur numérique. \nEntrée libre et gratuite \nContact : Noémie CLO 0673170008
URL:https://www.les-echos-de-couspeau.fr/event/22-04/
ATTACH;FMTTYPE=image/jpeg:https://www.les-echos-de-couspeau.fr/wp-content/uploads/2026/03/Suppr-23-04-26-xs.jpg
END:VEVENT
END:VCALENDAR