BEGIN:VCALENDAR
VERSION:2.0
PRODID:-//Les échos de Couspeau - ECPv6.15.11//NONSGML v1.0//EN
CALSCALE:GREGORIAN
METHOD:PUBLISH
X-WR-CALNAME:Les échos de Couspeau
X-ORIGINAL-URL:https://www.les-echos-de-couspeau.fr
X-WR-CALDESC:Évènements pour Les échos de Couspeau
REFRESH-INTERVAL;VALUE=DURATION:PT1H
X-Robots-Tag:noindex
X-PUBLISHED-TTL:PT1H
BEGIN:VTIMEZONE
TZID:Europe/Paris
BEGIN:DAYLIGHT
TZOFFSETFROM:+0100
TZOFFSETTO:+0200
TZNAME:CEST
DTSTART:20250330T010000
END:DAYLIGHT
BEGIN:STANDARD
TZOFFSETFROM:+0200
TZOFFSETTO:+0100
TZNAME:CET
DTSTART:20251026T010000
END:STANDARD
BEGIN:DAYLIGHT
TZOFFSETFROM:+0100
TZOFFSETTO:+0200
TZNAME:CEST
DTSTART:20260329T010000
END:DAYLIGHT
BEGIN:STANDARD
TZOFFSETFROM:+0200
TZOFFSETTO:+0100
TZNAME:CET
DTSTART:20261025T010000
END:STANDARD
BEGIN:DAYLIGHT
TZOFFSETFROM:+0100
TZOFFSETTO:+0200
TZNAME:CEST
DTSTART:20270328T010000
END:DAYLIGHT
BEGIN:STANDARD
TZOFFSETFROM:+0200
TZOFFSETTO:+0100
TZNAME:CET
DTSTART:20271031T010000
END:STANDARD
END:VTIMEZONE
BEGIN:VEVENT
DTSTART;TZID=Europe/Paris:20260421T180000
DTEND;TZID=Europe/Paris:20260421T230000
DTSTAMP:20260421T011909
CREATED:20260410T052045Z
LAST-MODIFIED:20260410T080932Z
UID:87329-1776794400-1776812400@www.les-echos-de-couspeau.fr
SUMMARY:21/04 - "Le Chant des forêts" et "Le gâteau du président" - Bourdeaux
DESCRIPTION:Espace Pierry Belle / Salle des fêtes – Bourdeaux \n \n\n\n\n\n\n\n\n\n\n\n\n\n\n\n\nà 18h30 \nLE CHANT DES FORÊTS – Un film de Vincent Munier Après La Panthère des neiges\, Vincent Munier nous invite au coeur des forêts des Vosges. C’est ici qu’il a tout appris grâce à son père Michel\, naturaliste\, ayant passé sa vie à l’affut dans les bois. Il est l’heure pour eux de transmettre ce savoir à Simon\, le fils de Vincent. Trois regards\, trois générations\, une même fascination pour la vie sauvage. Nous découvrirons avec eux cerfs\, oiseaux rares\, renards et lynx… et parfois\, le battement d’ailes d’un animal légendaire : le Grand Tétras. \nà 20h 30 \nLE GÂTEAU DU PRÉSIDENT de Hasah Hadi\nAvec Baneen Ahmad Nayyef\, Sajad Mohamad Qasem\,\nWaheed Thabet Khreibat\nDans l’Irak de Saddam Hussein\, Lamia\, 9 ans\, se voit confier la lourde tâche de confectionner un gâteau pour\ncélébrer l’anniversaire du président. Sa quête d’ingrédients\, accompagnée de son ami Saeed\,\nbouleverse son quotidien.\n/ 1h42 / Drame \n\n\n\n\n\n\n\n\n\n\n\n\n\n\n\n\n\n\n\n\n\nTarifs : Normal : 7 eurosRéduit : 6 euros (-14 ans\, étudiants\, demandeurs d’emploi\, RSA\, +65 ans)Groupe : 5 euros (à partir de 11 personnes)Scolaire : 4 euros
URL:https://www.les-echos-de-couspeau.fr/event/21-04-le-chant-des-forets-et-le-gateau-du-president-bourdeaux/
LOCATION:Bourdeaux
ATTACH;FMTTYPE=image/png:https://www.les-echos-de-couspeau.fr/wp-content/uploads/2019/09/Capture-d’écran-2019-09-04-à-17.00.43-2.png
END:VEVENT
END:VCALENDAR